BEGIN:VCALENDAR
VERSION:2.0
PRODID:-//LifeSmarts - ECPv6.0.0.1//NONSGML v1.0//EN
CALSCALE:GREGORIAN
METHOD:PUBLISH
X-ORIGINAL-URL:https://lifesmarts.org
X-WR-CALDESC:Events for LifeSmarts
REFRESH-INTERVAL;VALUE=DURATION:PT1H
X-Robots-Tag:noindex
X-PUBLISHED-TTL:PT1H
BEGIN:VTIMEZONE
TZID:UTC
BEGIN:STANDARD
TZOFFSETFROM:+0000
TZOFFSETTO:+0000
TZNAME:UTC
DTSTART:20260101T000000
END:STANDARD
END:VTIMEZONE
BEGIN:VEVENT
DTSTART;VALUE=DATE:20260207
DTEND;VALUE=DATE:20260208
DTSTAMP:20260420T120004
CREATED:20230125T213522Z
LAST-MODIFIED:20251015T190854Z
UID:37846-1770422400-1770508799@lifesmarts.org
SUMMARY:West Virginia Online Varsity State LifeSmarts Championship
DESCRIPTION:Information here. \nQualifying Teams will receive additional information from the State Coordinator and LifeSmarts Program Staff.
URL:https://lifesmarts.org/event/west-virginia-lifesmarts-state-championship/
END:VEVENT
END:VCALENDAR